BEGIN:VCALENDAR
VERSION:2.0
PRODID:-//wp-events-plugin.com//7.2.3.1//EN
TZID:Europe/Paris
X-WR-TIMEZONE:Europe/Paris
BEGIN:VEVENT
UID:95@tousocinoche.cinemaparadisio.fr
DTSTART;TZID=Europe/Paris:20260215T114500
DTEND;TZID=Europe/Paris:20260215T121500
DTSTAMP:20260206T183906Z
URL:https://tousocinoche.cinemaparadisio.fr/les-rendez-vous-de-tous-o-cino
 che/dedicaces/
SUMMARY:Dédicaces du livre Le secret des mésanges
DESCRIPTION:Après la projection du film \, dédicaces du livre
ATTACH;FMTTYPE=image/jpeg:https://tousocinoche.cinemaparadisio.fr/wp-conte
 nt/uploads/2026/02/livre-secret.jpg
CATEGORIES:EVENEMENTS
LOCATION:Cinema Paradisio\, 2 Rue Sainte-Croix\, Châteaugiron\, ille-et-vi
 llaine\, 35410\, Bretagne\, France
GEO:48.04576;-1.499225
X-APPLE-STRUCTURED-LOCATION;VALUE=URI;X-ADDRESS=2 Rue Sainte-Croix\, Châte
 augiron\, ille-et-villaine\, 35410\, Bretagne\, France;X-APPLE-RADIUS=100;
 X-TITLE=Cinema Paradisio:geo:48.04576,-1.499225
END:VEVENT
BEGIN:VTIMEZONE
TZID:Europe/Paris
X-LIC-LOCATION:Europe/Paris
BEGIN:STANDARD
DTSTART:20251026T020000
TZOFFSETFROM:+0200
TZOFFSETTO:+0100
TZNAME:CET
END:STANDARD
END:VTIMEZONE
END:VCALENDAR